BEGIN:VCALENDAR
VERSION:2.0
PRODID:-//Heritage Hall Theatre - ECPv6.15.20//NONSGML v1.0//EN
CALSCALE:GREGORIAN
METHOD:PUBLISH
X-ORIGINAL-URL:https://heritagehalltheatre.org
X-WR-CALDESC:Events for Heritage Hall Theatre
REFRESH-INTERVAL;VALUE=DURATION:PT1H
X-Robots-Tag:noindex
X-PUBLISHED-TTL:PT1H
BEGIN:VTIMEZONE
TZID:America/New_York
BEGIN:DAYLIGHT
TZOFFSETFROM:-0500
TZOFFSETTO:-0400
TZNAME:EDT
DTSTART:20250309T070000
END:DAYLIGHT
BEGIN:STANDARD
TZOFFSETFROM:-0400
TZOFFSETTO:-0500
TZNAME:EST
DTSTART:20251102T060000
END:STANDARD
BEGIN:DAYLIGHT
TZOFFSETFROM:-0500
TZOFFSETTO:-0400
TZNAME:EDT
DTSTART:20260308T070000
END:DAYLIGHT
BEGIN:STANDARD
TZOFFSETFROM:-0400
TZOFFSETTO:-0500
TZNAME:EST
DTSTART:20261101T060000
END:STANDARD
BEGIN:DAYLIGHT
TZOFFSETFROM:-0500
TZOFFSETTO:-0400
TZNAME:EDT
DTSTART:20270314T070000
END:DAYLIGHT
BEGIN:STANDARD
TZOFFSETFROM:-0400
TZOFFSETTO:-0500
TZNAME:EST
DTSTART:20271107T060000
END:STANDARD
END:VTIMEZONE
BEGIN:VEVENT
DTSTART;TZID=America/New_York:20260215T140000
DTEND;TZID=America/New_York:20260215T160000
DTSTAMP:20260424T173042
CREATED:20260208T143022Z
LAST-MODIFIED:20260208T143023Z
UID:14481-1771164000-1771171200@heritagehalltheatre.org
SUMMARY:Usher Training
DESCRIPTION:Heritage Hall is a 100% volunteer organization.  You are invited to be an usher for the 2026 season.  Join us for training on Sunday afternoon.  Perk – when you usher\, you get to attend the performance for free!
URL:https://heritagehalltheatre.org/event/usher-training/
LOCATION:Heritage Hall Theatre\, 211 N. Church St.\, Mountain City\, TN\, 37683\, United States
END:VEVENT
END:VCALENDAR