BEGIN:VCALENDAR
VERSION:2.0
PRODID:-//Heritage Hall Theatre - ECPv6.15.20//NONSGML v1.0//EN
CALSCALE:GREGORIAN
METHOD:PUBLISH
X-WR-CALNAME:Heritage Hall Theatre
X-ORIGINAL-URL:https://heritagehalltheatre.org
X-WR-CALDESC:Events for Heritage Hall Theatre
REFRESH-INTERVAL;VALUE=DURATION:PT1H
X-Robots-Tag:noindex
X-PUBLISHED-TTL:PT1H
BEGIN:VTIMEZONE
TZID:America/New_York
BEGIN:DAYLIGHT
TZOFFSETFROM:-0500
TZOFFSETTO:-0400
TZNAME:EDT
DTSTART:20250309T070000
END:DAYLIGHT
BEGIN:STANDARD
TZOFFSETFROM:-0400
TZOFFSETTO:-0500
TZNAME:EST
DTSTART:20251102T060000
END:STANDARD
BEGIN:DAYLIGHT
TZOFFSETFROM:-0500
TZOFFSETTO:-0400
TZNAME:EDT
DTSTART:20260308T070000
END:DAYLIGHT
BEGIN:STANDARD
TZOFFSETFROM:-0400
TZOFFSETTO:-0500
TZNAME:EST
DTSTART:20261101T060000
END:STANDARD
BEGIN:DAYLIGHT
TZOFFSETFROM:-0500
TZOFFSETTO:-0400
TZNAME:EDT
DTSTART:20270314T070000
END:DAYLIGHT
BEGIN:STANDARD
TZOFFSETFROM:-0400
TZOFFSETTO:-0500
TZNAME:EST
DTSTART:20271107T060000
END:STANDARD
END:VTIMEZONE
BEGIN:VEVENT
DTSTART;TZID=America/New_York:20260606T190000
DTEND;TZID=America/New_York:20260606T210000
DTSTAMP:20260424T154941
CREATED:20251228T161205Z
LAST-MODIFIED:20260323T180615Z
UID:14279-1780772400-1780779600@heritagehalltheatre.org
SUMMARY:Kenny Price
DESCRIPTION:Sponsored by WMCT/The Tomahawk | \n\n\n\nKenny\, a native of Johnson County has a rich heritage in the music and stories off these hills.  He is a carpenter and painter by trade\, but a musician by natural instinct and talent. \n\n\n\nKenny in the sun of Fiddlin’ Fred Price\, who played at Carnegie Hall and other big stages with Clint Howard and Doc Watson back in the 60s and who left a legacy of folk music much appreciated by legions of fans. \n\n\n\nKenny’s family were musical and not just from his father\, but also his grandmother who played the banjo. At a very early age Kenny started playing the same music that drew his family – the traditional mountain music!  His dad had put strings on an old banjo and then taught his son to play. Later\, Kenny would pick up the fiddle and perform with his famous Dad for several years.  He plays clawhammer and bluegrass banjo\, guitar\, the fiddle and is a excellent singer as well.  A multi-talented man\, Kanny has a CD called “Grandpa’s Memories” made with his father and son\, Adam\, who died of MD at 22. \n\n\n\nKenny’s concerts aren’t just about music\, but also the stories behind the very rich musical history we are known for. \n\n\n\n$15 advance and $20 at the door – student $5
URL:https://heritagehalltheatre.org/event/fireflight-2/
LOCATION:Heritage Hall Theatre\, 211 N. Church St.\, Mountain City\, TN\, 37683\, United States
ATTACH;FMTTYPE=image/jpeg:https://heritagehalltheatre.org/wp-content/uploads/2025/12/Kenny-Price_Vintage.jpg
END:VEVENT
END:VCALENDAR