BEGIN:VCALENDAR
VERSION:2.0
PRODID:-//Heritage Hall Theatre - ECPv6.15.20//NONSGML v1.0//EN
CALSCALE:GREGORIAN
METHOD:PUBLISH
X-ORIGINAL-URL:https://heritagehalltheatre.org
X-WR-CALDESC:Events for Heritage Hall Theatre
REFRESH-INTERVAL;VALUE=DURATION:PT1H
X-Robots-Tag:noindex
X-PUBLISHED-TTL:PT1H
BEGIN:VTIMEZONE
TZID:America/New_York
BEGIN:DAYLIGHT
TZOFFSETFROM:-0500
TZOFFSETTO:-0400
TZNAME:EDT
DTSTART:20250309T070000
END:DAYLIGHT
BEGIN:STANDARD
TZOFFSETFROM:-0400
TZOFFSETTO:-0500
TZNAME:EST
DTSTART:20251102T060000
END:STANDARD
BEGIN:DAYLIGHT
TZOFFSETFROM:-0500
TZOFFSETTO:-0400
TZNAME:EDT
DTSTART:20260308T070000
END:DAYLIGHT
BEGIN:STANDARD
TZOFFSETFROM:-0400
TZOFFSETTO:-0500
TZNAME:EST
DTSTART:20261101T060000
END:STANDARD
BEGIN:DAYLIGHT
TZOFFSETFROM:-0500
TZOFFSETTO:-0400
TZNAME:EDT
DTSTART:20270314T070000
END:DAYLIGHT
BEGIN:STANDARD
TZOFFSETFROM:-0400
TZOFFSETTO:-0500
TZNAME:EST
DTSTART:20271107T060000
END:STANDARD
END:VTIMEZONE
BEGIN:VEVENT
DTSTART;TZID=America/New_York:20260609T070000
DTEND;TZID=America/New_York:20260609T210000
DTSTAMP:20260424T173041
CREATED:20260213T215212Z
LAST-MODIFIED:20260323T175156Z
UID:14502-1780988400-1781038800@heritagehalltheatre.org
SUMMARY:Summer Sessions #1
DESCRIPTION:Heritage Hall’s Summer Series\, featuring local talent\, returns to Heritage Hall Theatre in 2026! \n\n\n\nChasing Joy with Karen Miller – Singing and playing piano in church as a child\, Karen didn’t find her feet in blues and jazz until she started playing music with her coworkers in Austin\, Texas. She brings blues\, jazz\, and a smattering of classic rock with a gospel influence. \n\n\n\nSam Phipps and Bluegrass Sounds – Formed in 2023 with brothers Sam and Noah Phipps\, Clark and Nancy Mixon and Randy Singleton\, the band brings experience spanning decades of playing bluegrass and gospel music. The band has been influenced by both traditional and bluegrass/gospel performers throughout the years. \n\n\n\n$15 in advance & $20 at the door
URL:https://heritagehalltheatre.org/event/summer-sessions/
LOCATION:Heritage Hall Theatre\, 211 N. Church St.\, Mountain City\, TN\, 37683\, United States
ATTACH;FMTTYPE=image/png:https://heritagehalltheatre.org/wp-content/uploads/2026/02/Summer-1-Tumbnail-2.png
END:VEVENT
END:VCALENDAR