BEGIN:VCALENDAR
VERSION:2.0
PRODID:-//Heritage Hall Theatre - ECPv6.15.20//NONSGML v1.0//EN
CALSCALE:GREGORIAN
METHOD:PUBLISH
X-ORIGINAL-URL:https://heritagehalltheatre.org
X-WR-CALDESC:Events for Heritage Hall Theatre
REFRESH-INTERVAL;VALUE=DURATION:PT1H
X-Robots-Tag:noindex
X-PUBLISHED-TTL:PT1H
BEGIN:VTIMEZONE
TZID:America/New_York
BEGIN:DAYLIGHT
TZOFFSETFROM:-0500
TZOFFSETTO:-0400
TZNAME:EDT
DTSTART:20250309T070000
END:DAYLIGHT
BEGIN:STANDARD
TZOFFSETFROM:-0400
TZOFFSETTO:-0500
TZNAME:EST
DTSTART:20251102T060000
END:STANDARD
BEGIN:DAYLIGHT
TZOFFSETFROM:-0500
TZOFFSETTO:-0400
TZNAME:EDT
DTSTART:20260308T070000
END:DAYLIGHT
BEGIN:STANDARD
TZOFFSETFROM:-0400
TZOFFSETTO:-0500
TZNAME:EST
DTSTART:20261101T060000
END:STANDARD
BEGIN:DAYLIGHT
TZOFFSETFROM:-0500
TZOFFSETTO:-0400
TZNAME:EDT
DTSTART:20270314T070000
END:DAYLIGHT
BEGIN:STANDARD
TZOFFSETFROM:-0400
TZOFFSETTO:-0500
TZNAME:EST
DTSTART:20271107T060000
END:STANDARD
END:VTIMEZONE
BEGIN:VEVENT
DTSTART;TZID=America/New_York:20260616T190000
DTEND;TZID=America/New_York:20260616T210000
DTSTAMP:20260424T173035
CREATED:20260213T215808Z
LAST-MODIFIED:20260310T173906Z
UID:14507-1781636400-1781643600@heritagehalltheatre.org
SUMMARY:Summer Sessions #2
DESCRIPTION:Heritage Hall’s Summer Series\, featuring local talent\, returns to Heritage Hall Theatre in 2026! \n\n\n\nCameron Clawson – Growing up right here in Mountain City\, Cameron Clawson was raised listening to good ‘ol country music.  His music is rooted deeply in traditional country\, and he shares his passion for the genre on stage in his performances. \n\n\n\nJust Chuck – All acoustic Americana\, Classic Country and Rock music presented by…just Chuck \n\n\n\nIn Advance $15 | At the Door $20 | Youth $5
URL:https://heritagehalltheatre.org/event/summer-sessions-2/
LOCATION:Heritage Hall Theatre\, 211 N. Church St.\, Mountain City\, TN\, 37683\, United States
ATTACH;FMTTYPE=image/jpeg:https://heritagehalltheatre.org/wp-content/uploads/2026/02/Summer-2-Tumbnail-glitter-1.jpg
END:VEVENT
END:VCALENDAR